BEGIN:VCALENDAR
VERSION:2.0
PRODID:-//Le Defi du Réemploi Industriel - ECPv6.14.0//NONSGML v1.0//EN
CALSCALE:GREGORIAN
METHOD:PUBLISH
X-ORIGINAL-URL:https://ledefidureemploiindustriel.fr
X-WR-CALDESC:Évènements pour Le Defi du Réemploi Industriel
REFRESH-INTERVAL;VALUE=DURATION:PT1H
X-Robots-Tag:noindex
X-PUBLISHED-TTL:PT1H
BEGIN:VTIMEZONE
TZID:Europe/Paris
BEGIN:DAYLIGHT
TZOFFSETFROM:+0100
TZOFFSETTO:+0200
TZNAME:CEST
DTSTART:20250330T010000
END:DAYLIGHT
BEGIN:STANDARD
TZOFFSETFROM:+0200
TZOFFSETTO:+0100
TZNAME:CET
DTSTART:20251026T010000
END:STANDARD
END:VTIMEZONE
BEGIN:VEVENT
DTSTART;VALUE=DATE:20250311
DTEND;VALUE=DATE:20250315
DTSTAMP:20260421T133549
CREATED:20250220T163554Z
LAST-MODIFIED:20250220T164143Z
UID:15831-1741651200-1741996799@ledefidureemploiindustriel.fr
SUMMARY:Le salon Global Industrie - La voix et les solutions de l'industrie
DESCRIPTION:La salon Global Industrie est LE lieu de rassemblement de tout l’écosystème industriel.  \nPoint d’ancrage de la réindustrialisation\, Global Industrie est le marqueur de l’engagement et de la fierté des acteurs de l’industrie. Vitrine des Territoires\, des savoir-faire et de la présence incontournable de l’industrie dans notre quotidien\, c’est avant tout le rendez-vous business de ceux qui font l’industrie d’aujourd’hui et de demain\, le relais de leur combativité. \nEn 2025\, différents enjeux majeurs seront abordés. Ces thématiques seront au cœur des discussions et des innovations présentées durant l’événement.
URL:https://ledefidureemploiindustriel.fr/event/le-salon-global-industrie-la-voix-et-les-solutions-de-lindustrie/
LOCATION:Eurexpo Lyon\, Bd de l'Europe\, Chassieu\, 69680\, France
CATEGORIES:Evénements
ATTACH;FMTTYPE=image/jpeg:https://ledefidureemploiindustriel.fr/wp-content/uploads/2025/02/1500x500.jpg
END:VEVENT
END:VCALENDAR