BEGIN:VCALENDAR
VERSION:2.0
PRODID:-//Le Defi du Réemploi Industriel - ECPv6.14.0//NONSGML v1.0//EN
CALSCALE:GREGORIAN
METHOD:PUBLISH
X-ORIGINAL-URL:https://ledefidureemploiindustriel.fr
X-WR-CALDESC:Évènements pour Le Defi du Réemploi Industriel
REFRESH-INTERVAL;VALUE=DURATION:PT1H
X-Robots-Tag:noindex
X-PUBLISHED-TTL:PT1H
BEGIN:VTIMEZONE
TZID:Europe/Paris
BEGIN:DAYLIGHT
TZOFFSETFROM:+0100
TZOFFSETTO:+0200
TZNAME:CEST
DTSTART:20230326T010000
END:DAYLIGHT
BEGIN:STANDARD
TZOFFSETFROM:+0200
TZOFFSETTO:+0100
TZNAME:CET
DTSTART:20231029T010000
END:STANDARD
END:VTIMEZONE
BEGIN:VEVENT
DTSTART;TZID=Europe/Paris:20231020T100000
DTEND;TZID=Europe/Paris:20231020T173000
DTSTAMP:20260422T213101
CREATED:20231013T125902Z
LAST-MODIFIED:20231013T141323Z
UID:13544-1697796000-1697823000@ledefidureemploiindustriel.fr
SUMMARY:Micronov fête ses 25 ans - Inauguration & portes ouvertes
DESCRIPTION:Ce sera l’occasion pour vous de découvrir l’éco-système Micromégas/Micronov : \n\nLes acteurs locaux de l’Économie Sociale et Solidaire (ESS)\nLes acteurs de l’insertion\nLes acteurs de la Collecte\, du Réemploi et du Traitement des Déchets Électroniques sur nos territoires\nLes acteurs/utilisateurs de coffres-forts numériques sécurisés et collaboratifs.\nLes producteurs de matériels neufs qui engagent des réflexions sur la réparabilité et l’impact environnemental de leurs produits.\n\nNotre boutique vous proposera à cette occasion : \n\nDes promotions sur les matériels neuf en vente ou location.\nValables le 20/10/2023 et le 21/10/2023 matin.
URL:https://ledefidureemploiindustriel.fr/event/micronov-fete-ses-25-ans-inauguration-portes-ouvertes/
LOCATION:MICRONOV 3 Avenue Arsène d’Arsonval CENORD 01000 Bourg-en-Bresse\, 3 Avenue Arsène d’Arsonval CENORD\, Bourg-en-Bresse\, 01000
CATEGORIES:Evénements
ATTACH;FMTTYPE=image/webp:https://ledefidureemploiindustriel.fr/wp-content/uploads/2023/10/MICRONOV-SaveTheDate-Entete-sept2023.webp
END:VEVENT
END:VCALENDAR